BEGIN:VCALENDAR
PRODID:-//nuDatenautomaten//framework iCal4j //DE
VERSION:2.0
CALSCALE:GREGORIAN
BEGIN:VTIMEZONE
TZID:Europe/Berlin
LAST-MODIFIED:20260306T231828Z
TZURL:https://www.tzurl.org/zoneinfo/Europe/Berlin
X-LIC-LOCATION:Europe/Berlin
X-PROLEPTIC-TZNAME:LMT
BEGIN:STANDARD
TZNAME:CET
TZOFFSETFROM:+005328
TZOFFSETTO:+0100
DTSTART:18930401T000000
END:STANDARD
BEGIN:DAYLIGHT
TZNAME:CEST
TZOFFSETFROM:+0100
TZOFFSETTO:+0200
DTSTART:19160430T230000
RDATE:19400401T020000
RDATE:19430329T020000
RDATE:19460414T020000
RDATE:19470406T030000
RDATE:19480418T020000
RDATE:19490410T020000
RDATE:19800406T020000
END:DAYLIGHT
BEGIN:STANDARD
TZNAME:CET
TZOFFSETFROM:+0200
TZOFFSETTO:+0100
DTSTART:19161001T010000
RDATE:19421102T030000
RDATE:19431004T030000
RDATE:19441002T030000
RDATE:19451118T030000
RDATE:19461007T030000
END:STANDARD
BEGIN:DAYLIGHT
TZNAME:CEST
TZOFFSETFROM:+0100
TZOFFSETTO:+0200
DTSTART:19170416T020000
RRULE:FREQ=YEARLY;UNTIL=19180415T010000Z;BYMONTH=4;BYDAY=3MO
END:DAYLIGHT
BEGIN:STANDARD
TZNAME:CET
TZOFFSETFROM:+0200
TZOFFSETTO:+0100
DTSTART:19170917T030000
RRULE:FREQ=YEARLY;UNTIL=19180916T010000Z;BYMONTH=9;BYDAY=3MO
END:STANDARD
BEGIN:DAYLIGHT
TZNAME:CEST
TZOFFSETFROM:+0100
TZOFFSETTO:+0200
DTSTART:19440403T020000
RRULE:FREQ=YEARLY;UNTIL=19450402T010000Z;BYMONTH=4;BYDAY=1MO
END:DAYLIGHT
BEGIN:DAYLIGHT
TZNAME:CEMT
TZOFFSETFROM:+0200
TZOFFSETTO:+0300
DTSTART:19450524T020000
RDATE:19470511T030000
END:DAYLIGHT
BEGIN:DAYLIGHT
TZNAME:CEST
TZOFFSETFROM:+0300
TZOFFSETTO:+0200
DTSTART:19450924T030000
RDATE:19470629T030000
END:DAYLIGHT
BEGIN:STANDARD
TZNAME:CET
TZOFFSETFROM:+0100
TZOFFSETTO:+0100
DTSTART:19460101T000000
RDATE:19800101T000000
END:STANDARD
BEGIN:STANDARD
TZNAME:CET
TZOFFSETFROM:+0200
TZOFFSETTO:+0100
DTSTART:19471005T030000
RRULE:FREQ=YEARLY;UNTIL=19491002T010000Z;BYMONTH=10;BYDAY=1SU
END:STANDARD
BEGIN:STANDARD
TZNAME:CET
TZOFFSETFROM:+0200
TZOFFSETTO:+0100
DTSTART:19800928T030000
RRULE:FREQ=YEARLY;UNTIL=19950924T010000Z;BYMONTH=9;BYDAY=-1SU
END:STANDARD
BEGIN:DAYLIGHT
TZNAME:CEST
TZOFFSETFROM:+0100
TZOFFSETTO:+0200
DTSTART:19810329T020000
RRULE:FREQ=YEARLY;BYMONTH=3;BYDAY=-1SU
END:DAYLIGHT
BEGIN:STANDARD
TZNAME:CET
TZOFFSETFROM:+0200
TZOFFSETTO:+0100
DTSTART:19961027T030000
RRULE:FREQ=YEARLY;BYMONTH=10;BYDAY=-1SU
END:STANDARD
END:VTIMEZONE
BEGIN:VEVENT
DTSTAMP:20260420T042942Z
DTSTART;TZID=Europe/Berlin:20251130T140000
DTEND;TZID=Europe/Berlin:20251130T170000
SUMMARY:1. Bundesliga Blau-Weiß Wittorf NMS vs 1. BC Sbr.-Bischmisheim (19)
UID:e6a79997-b6c5-4a20-ad77-1a4916cd40e0
STATUS:CONFIRMED
LAST-MODIFIED:20251130T174035Z
DESCRIPTION:1. Bundesliga\nBegegnungs-Nr: 19\nHeim: Blau-Weiß Wittorf NMS\nGast: 1. BC Sbr.-Bischmisheim\n
LOCATION:
CATEGORIES:Saison 2025/26
END:VEVENT
BEGIN:VEVENT
DTSTAMP:20260420T042942Z
DTSTART;TZID=Europe/Berlin:20251129T140000
DTEND;TZID=Europe/Berlin:20251129T170000
SUMMARY:1. Bundesliga Blau-Weiß Wittorf NMS vs 1. BC Wipperfeld (13)
UID:2b9e60af-120c-4215-8feb-4445be1f870e
STATUS:CONFIRMED
LAST-MODIFIED:20251129T190619Z
DESCRIPTION:1. Bundesliga\nBegegnungs-Nr: 13\nHeim: Blau-Weiß Wittorf NMS\nGast: 1. BC Wipperfeld\n
LOCATION:
CATEGORIES:Saison 2025/26
END:VEVENT
BEGIN:VEVENT
DTSTAMP:20260420T042942Z
DTSTART;TZID=Europe/Berlin:20251019T140000
DTEND;TZID=Europe/Berlin:20251019T170000
SUMMARY:1. Bundesliga Blau-Weiß Wittorf NMS vs TSV Trittau (10)
UID:c47a17e1-3ea2-4130-8f2a-5fbc44a0fe73
STATUS:CONFIRMED
LAST-MODIFIED:20251019T162136Z
DESCRIPTION:1. Bundesliga\nBegegnungs-Nr: 10\nHeim: Blau-Weiß Wittorf NMS\nGast: TSV Trittau\n
LOCATION:
CATEGORIES:Saison 2025/26
END:VEVENT
BEGIN:VEVENT
DTSTAMP:20260420T042942Z
DTSTART;TZID=Europe/Berlin:20260322T150000
DTEND;TZID=Europe/Berlin:20260322T180000
SUMMARY:1. Bundesliga Blau-Weiß Wittorf NMS vs SC Union 08 Lüdinghausen (28)
UID:95a5fa42-aeda-4938-ac65-f6c9a5c381f3
STATUS:CONFIRMED
LAST-MODIFIED:20260322T173945Z
DESCRIPTION:1. Bundesliga\nBegegnungs-Nr: 28\nHeim: Blau-Weiß Wittorf NMS\nGast: SC Union 08 Lüdinghausen\n
LOCATION:
CATEGORIES:Saison 2025/26
END:VEVENT
BEGIN:VEVENT
DTSTAMP:20260420T042942Z
DTSTART;TZID=Europe/Berlin:20260321T140000
DTEND;TZID=Europe/Berlin:20260321T170000
SUMMARY:1. Bundesliga Blau-Weiß Wittorf NMS vs 1. BV Mülheim (21)
UID:fdb82110-c495-4a71-bba1-dde8fc12e8c6
STATUS:CONFIRMED
LAST-MODIFIED:20260321T193801Z
DESCRIPTION:1. Bundesliga\nBegegnungs-Nr: 21\nHeim: Blau-Weiß Wittorf NMS\nGast: 1. BV Mülheim\n
LOCATION:
CATEGORIES:Saison 2025/26
END:VEVENT
BEGIN:VEVENT
DTSTAMP:20260420T042942Z
DTSTART;TZID=Europe/Berlin:20260208T140000
DTEND;TZID=Europe/Berlin:20260208T170000
SUMMARY:1. Bundesliga Blau-Weiß Wittorf NMS vs SV Fun-Ball Dortelweil (6)
UID:37eb3c2f-ddb8-4f0c-a70b-17f1c157ecee
STATUS:CONFIRMED
LAST-MODIFIED:20260208T160110Z
DESCRIPTION:1. Bundesliga\nBegegnungs-Nr: 6\nHeim: Blau-Weiß Wittorf NMS\nGast: SV Fun-Ball Dortelweil\n
LOCATION:
CATEGORIES:Saison 2025/26
END:VEVENT
BEGIN:VEVENT
DTSTAMP:20260420T042942Z
DTSTART;TZID=Europe/Berlin:20260118T140000
DTEND;TZID=Europe/Berlin:20260118T170000
SUMMARY:1. Bundesliga Blau-Weiß Wittorf NMS vs TV Refrath (1)
UID:081d545a-a950-40b3-b701-93844658251b
STATUS:CONFIRMED
LAST-MODIFIED:20260118T183858Z
DESCRIPTION:1. Bundesliga\nBegegnungs-Nr: 1\nHeim: Blau-Weiß Wittorf NMS\nGast: TV Refrath\n
LOCATION:
CATEGORIES:Saison 2025/26
END:VEVENT
BEGIN:VEVENT
DTSTAMP:20260420T042942Z
DTSTART;TZID=Europe/Berlin:20251221T150000
DTEND;TZID=Europe/Berlin:20251221T180000
SUMMARY:1. Bundesliga SC Union 08 Lüdinghausen vs Blau-Weiß Wittorf NMS (27)
UID:b9cd5137-2abb-4010-94a5-edc27b997041
STATUS:CONFIRMED
LAST-MODIFIED:20251221T175858Z
DESCRIPTION:1. Bundesliga\nBegegnungs-Nr: 27\nHeim: SC Union 08 Lüdinghausen\nGast: Blau-Weiß Wittorf NMS\n
LOCATION:
CATEGORIES:Saison 2025/26
END:VEVENT
BEGIN:VEVENT
DTSTAMP:20260420T042942Z
DTSTART;TZID=Europe/Berlin:20251220T170000
DTEND;TZID=Europe/Berlin:20251220T200000
SUMMARY:1. Bundesliga 1. BV Mülheim vs Blau-Weiß Wittorf NMS (24)
UID:694b335b-9bfe-4d5d-a308-764584a530b3
STATUS:CONFIRMED
LAST-MODIFIED:20251221T082807Z
DESCRIPTION:1. Bundesliga\nBegegnungs-Nr: 24\nHeim: 1. BV Mülheim\nGast: Blau-Weiß Wittorf NMS\n
LOCATION:
CATEGORIES:Saison 2025/26
END:VEVENT
BEGIN:VEVENT
DTSTAMP:20260420T042942Z
DTSTART;TZID=Europe/Berlin:20251005T143000
DTEND;TZID=Europe/Berlin:20251005T173000
SUMMARY:1. Bundesliga SV Fun-Ball Dortelweil vs Blau-Weiß Wittorf NMS (7)
UID:4ff4e5a1-7208-47af-a185-a714262a4297
STATUS:CONFIRMED
LAST-MODIFIED:20251005T170005Z
DESCRIPTION:1. Bundesliga\nBegegnungs-Nr: 7\nHeim: SV Fun-Ball Dortelweil\nGast: Blau-Weiß Wittorf NMS\nHalle: Sporthalle der Europäischen Schule Rhein-Main  (61118-02)\nAdresse: Theodor-Heuss Straße 65\, 61118 Bad Vilbel\n
LOCATION:Sporthalle der Europäischen Schule Rhein-Main  (61118-02): Theodor-Heuss Straße 65\, 61118 Bad Vilbel
CATEGORIES:Saison 2025/26
END:VEVENT
BEGIN:VEVENT
DTSTAMP:20260420T042942Z
DTSTART;TZID=Europe/Berlin:20250921T150000
DTEND;TZID=Europe/Berlin:20250921T180000
SUMMARY:1. Bundesliga TV Refrath vs Blau-Weiß Wittorf NMS (4)
UID:c173abd4-60e8-4284-8701-d6fe24e7998f
STATUS:CONFIRMED
LAST-MODIFIED:20250921T170743Z
DESCRIPTION:1. Bundesliga\nBegegnungs-Nr: 4\nHeim: TV Refrath\nGast: Blau-Weiß Wittorf NMS\n
LOCATION:
CATEGORIES:Saison 2025/26
END:VEVENT
BEGIN:VEVENT
DTSTAMP:20260420T042942Z
DTSTART;TZID=Europe/Berlin:20260308T150000
DTEND;TZID=Europe/Berlin:20260308T180000
SUMMARY:1. Bundesliga 1. BC Sbr.-Bischmisheim vs Blau-Weiß Wittorf NMS (20)
UID:d724bf57-fe43-4512-86f0-5909a7f57c40
STATUS:CONFIRMED
LAST-MODIFIED:20260308T172229Z
DESCRIPTION:1. Bundesliga\nBegegnungs-Nr: 20\nHeim: 1. BC Sbr.-Bischmisheim\nGast: Blau-Weiß Wittorf NMS\n
LOCATION:
CATEGORIES:Saison 2025/26
END:VEVENT
BEGIN:VEVENT
DTSTAMP:20260420T042942Z
DTSTART;TZID=Europe/Berlin:20260307T130000
DTEND;TZID=Europe/Berlin:20260307T160000
SUMMARY:1. Bundesliga 1. BC Wipperfeld vs Blau-Weiß Wittorf NMS (13)
UID:1dc2f5bc-3356-41f5-a4ae-04b926373ab3
STATUS:CONFIRMED
LAST-MODIFIED:20260307T185720Z
DESCRIPTION:1. Bundesliga\nBegegnungs-Nr: 13\nHeim: 1. BC Wipperfeld\nGast: Blau-Weiß Wittorf NMS\n
LOCATION:
CATEGORIES:Saison 2025/26
END:VEVENT
BEGIN:VEVENT
DTSTAMP:20260420T042942Z
DTSTART;TZID=Europe/Berlin:20260222T130000
DTEND;TZID=Europe/Berlin:20260222T160000
SUMMARY:1. Bundesliga TSV Trittau vs Blau-Weiß Wittorf NMS (9)
UID:eb1c4305-85f7-4ee5-b300-06c02750f716
STATUS:CONFIRMED
LAST-MODIFIED:20260222T165347Z
DESCRIPTION:1. Bundesliga\nBegegnungs-Nr: 9\nHeim: TSV Trittau\nGast: Blau-Weiß Wittorf NMS\n
LOCATION:
CATEGORIES:Saison 2025/26
END:VEVENT
BEGIN:VEVENT
DTSTAMP:20260420T042942Z
DTSTART;TZID=Europe/Berlin:20260418T160000
DTEND;TZID=Europe/Berlin:20260418T190000
SUMMARY:Pl-Off HF/F SV Fun-Ball Dortelweil vs Blau-Weiß Wittorf NMS (1)
UID:a3e80514-2fd3-49f6-aadb-6e81485f7374
STATUS:CONFIRMED
LAST-MODIFIED:20260418T184427Z
DESCRIPTION:Bundesliga Play-Off FinalFour\nBegegnungs-Nr: 1\nHeim: SV Fun-Ball Dortelweil\nGast: Blau-Weiß Wittorf NMS\nHalle: 66121 Saarbrücken\, Joachim-Deckarm-Halle\, Halbergstraße 84-86 (13-66121-1)\nAdresse: Halbergstraße 84-86\, 66121 Saarbrücken\n
LOCATION:66121 Saarbrücken\, Joachim-Deckarm-Halle\, Halbergstraße 84-86 (13-66121-1): Halbergstraße 84-86\, 66121 Saarbrücken
CATEGORIES:Saison 2025/26
END:VEVENT
END:VCALENDAR
